BEGIN:VCALENDAR
VERSION:2.0
PRODID:-//InvisionCommunity Events 4.7.17//EN
METHOD:PUBLISH
CALSCALE:GREGORIAN
REFRESH-INTERVAL:PT15M
X-PUBLISHED-TTL:PT15M
X-WR-CALNAME:Kalendarz GMClanu
NAME:Kalendarz GMClanu
BEGIN:VTIMEZONE
TZID:Europe/London
TZURL:http://tzurl.org/zoneinfo/Europe/London
X-LIC-LOCATION:Europe/London
BEGIN:DAYLIGHT
TZOFFSETFROM:+0000
TZOFFSETTO:+0100
TZNAME:BST
DTSTART:20220327T020000Z
RRULE:FREQ=YEARLY;BYMONTH=3;BYDAY=-1SU
END:DAYLIGHT
BEGIN:STANDARD
TZOFFSETFROM:+0100
TZOFFSETTO:+0000
TZNAME:GMT
DTSTART:20221030T020000Z
RRULE:FREQ=YEARLY;BYMONTH=10;BYDAY=-1SU
END:STANDARD
END:VTIMEZONE
BEGIN:VTIMEZONE
TZID:Europe/London
TZURL:http://tzurl.org/zoneinfo/Europe/London
X-LIC-LOCATION:Europe/London
BEGIN:DAYLIGHT
TZOFFSETFROM:+0000
TZOFFSETTO:+0100
TZNAME:BST
DTSTART:20170326T020000Z
RRULE:FREQ=YEARLY;BYMONTH=3;BYDAY=-1SU
END:DAYLIGHT
BEGIN:STANDARD
TZOFFSETFROM:+0100
TZOFFSETTO:+0000
TZNAME:GMT
DTSTART:20171029T020000Z
RRULE:FREQ=YEARLY;BYMONTH=10;BYDAY=-1SU
END:STANDARD
END:VTIMEZONE
BEGIN:VEVENT
SUMMARY:GMCLAN meetup - 20 lat GMCLANu!
DTSTAMP:20220914T100437Z
SEQUENCE:0
UID:7-1-5533fe4ade83907196ba05c8ee7108d1@forum.gmclan.org
ORGANIZER;CN="gnysek":redakcja@gmclan.org
DESCRIPTION:\n	GMCLAN meetup - 20 lat GMCLANu!\n\n
DTSTART;VALUE=DATE:20221029
END:VEVENT
BEGIN:VEVENT
SUMMARY:PGA+GIC 2022
DTSTAMP:20220906T132723Z
SEQUENCE:0
UID:6-1-5533fe4ade83907196ba05c8ee7108d1@forum.gmclan.org
ORGANIZER;CN="gnysek":redakcja@gmclan.org
DESCRIPTION:\n	Spotkanie GMCLANowej braci w trakcie Poznań Game Arena i
	 Game Industry Conference w Poznaniu.\n\n
DTSTART;VALUE=DATE:20221007
DTEND;VALUE=DATE:20221010
END:VEVENT
BEGIN:VEVENT
SUMMARY:PGA / GIC (dawne ZTG)
DTSTAMP:20170819T172235Z
SEQUENCE:0
UID:5-1-5533fe4ade83907196ba05c8ee7108d1@forum.gmclan.org
ORGANIZER;CN="gnysek":redakcja@gmclan.org
DESCRIPTION:\n\n	Targi Poznań Game Arena (PGA) oraz Game Industry Conf
	erence (GIC)(dawne ZTG) w Poznaniu - pewnie ktoś z redakcji będzie \n\n
	\n	 \n\n\n\n	Więcej informacji o GIC: https://gic.gd/pl/\n\n\n\n	 \n\n
DTSTART;VALUE=DATE:20171006
DTEND;VALUE=DATE:20171009
ATTENDEE;CN="gnysek";CUTYPE=INDIVIDUAL;PARTSTAT=ACCEPTED:red
	akcja@gmclan.org
ATTENDEE;CN="Chell";CUTYPE=INDIVIDUAL;PARTSTAT=ACCEPTED:reda
	kcja@gmclan.org
ATTENDEE;CN="Threef";CUTYPE=INDIVIDUAL;PARTSTAT=ACCEPTED:red
	akcja@gmclan.org
ATTENDEE;CN="Ignatus";CUTYPE=INDIVIDUAL;PARTSTAT=ACCEPTED:re
	dakcja@gmclan.org
ATTENDEE;CN="ANtY";CUTYPE=INDIVIDUAL;PARTSTAT=ACCEPTED:redak
	cja@gmclan.org
ATTENDEE;CN="Deusald (Adamentium)";CUTYPE=INDIVIDUAL;PARTSTA
	T=ACCEPTED:redakcja@gmclan.org
END:VEVENT
BEGIN:VEVENT
SUMMARY:15 lat GMCLANu!
DTSTAMP:20170814T095132Z
SEQUENCE:0
UID:4-1-5533fe4ade83907196ba05c8ee7108d1@forum.gmclan.org
ORGANIZER;CN="gnysek":redakcja@gmclan.org
DESCRIPTION:\n	15 lat GMCLANu!\n
DTSTART;VALUE=DATE:20171101
END:VEVENT
BEGIN:VEVENT
SUMMARY:Humble GameMaker (re) Bundle
DTSTAMP:20170807T113424Z
SEQUENCE:0
UID:3-1-5533fe4ade83907196ba05c8ee7108d1@forum.gmclan.org
ORGANIZER;CN="Uzjel":redakcja@gmclan.org
DESCRIPTION:\n\n	Spóźniliście się na ostatniego Bundla z GameMakerem
	? Nic straconego! Właśnie wystartował Humble GameMaker Re Bundle. 15$ Z
	amiast $1 600.\n\n\n\n	 \n\n\n\n	\n\n\n\n	 \n\n\n\n	 \n\n\n\n	 \n\n\n\
	n	\n\n\n\n	 \n\n
DTSTART;VALUE=DATE:20170801
DTEND;VALUE=DATE:20170816
END:VEVENT
END:VCALENDAR
